BEGIN:VCALENDAR
VERSION:2.0
PRODID:-//hacksw/handcal//NONSGML v1.0//EN
CALSCALE:GREGORIAN
BEGIN:VEVENT
LOCATION:Barcelona
DESCRIPTION:
DTSTART:20190713T090000Z
DTEND:20190713T090000Z
SUMMARY:Guided tour to the Casa Bloc
URL;VALUE=URI:https://arquitectes.cat/ca/node/31978
DTSTAMP:20260424T211854Z
UID:69ebc21e87b9d
END:VEVENT
END:VCALENDAR