BEGIN:VCALENDAR
VERSION:2.0
PRODID:-//hacksw/handcal//NONSGML v1.0//EN
CALSCALE:GREGORIAN
BEGIN:VEVENT
LOCATION:Barcelona
DESCRIPTION:
DTSTART:20190706T090000Z
DTEND:20190706T090000Z
SUMMARY:Visita guiada a la Casa Bloc
URL;VALUE=URI:https://arquitectes.cat/ca/content/visita-guiada-la-casa-bloc-90
DTSTAMP:20260422T154353Z
UID:69e8d099b45b1
END:VEVENT
END:VCALENDAR