BEGIN:VCALENDAR
VERSION:2.0
PRODID:-//hacksw/handcal//NONSGML v1.0//EN
CALSCALE:GREGORIAN
BEGIN:VEVENT
LOCATION:Girona
DESCRIPTION:
DTSTART:20190619T070000Z
DTEND:20190619T070000Z
SUMMARY:Jornada participativa de l’Agenda Urbana a Girona
URL;VALUE=URI:https://arquitectes.cat/ca/content/jornada-participativa-de-l%E2%80%99agenda-urbana-girona
DTSTAMP:20260420T003338Z
UID:69e5584219e7e
END:VEVENT
END:VCALENDAR