BEGIN:VCALENDAR
VERSION:2.0
PRODID:-//hacksw/handcal//NONSGML v1.0//EN
CALSCALE:GREGORIAN
BEGIN:VEVENT
LOCATION:Barcelona
DESCRIPTION:
DTSTART:20190607T070000Z
DTEND:20190924T183000Z
SUMMARY:Exposició. "Picasso\, la mirada del fotògraf"
URL;VALUE=URI:https://arquitectes.cat/ca/content/exposici%C3%B3-picasso-la-mirada-del-fot%C3%B2graf
DTSTAMP:20260422T154524Z
UID:69e8d0f45cbab
END:VEVENT
END:VCALENDAR