BEGIN:VCALENDAR
VERSION:2.0
PRODID:-//hacksw/handcal//NONSGML v1.0//EN
CALSCALE:GREGORIAN
BEGIN:VEVENT
LOCATION:Barcelona
DESCRIPTION:
DTSTART:20190612T163000Z
DTEND:20190612T163000Z
SUMMARY:Exposición: Pequeños diseños\, grandes arquitectos
URL;VALUE=URI:https://arquitectes.cat/ca/node/31879
DTSTAMP:20260426T000947Z
UID:69ed3bab4c920
END:VEVENT
END:VCALENDAR