BEGIN:VCALENDAR
VERSION:2.0
PRODID:-//hacksw/handcal//NONSGML v1.0//EN
CALSCALE:GREGORIAN
BEGIN:VEVENT
LOCATION:Barcelona
DESCRIPTION:
DTSTART:20190603T193000Z
DTEND:20190603T193000Z
SUMMARY:Pantalla Pavelló 2019: BAUHAUS SPIRIT
URL;VALUE=URI:https://arquitectes.cat/ca/content/pantalla-pavell%C3%B3-2019-bauhaus-spirit
DTSTAMP:20260419T230527Z
UID:69e5439723e9e
END:VEVENT
END:VCALENDAR