BEGIN:VCALENDAR
VERSION:2.0
PRODID:-//hacksw/handcal//NONSGML v1.0//EN
CALSCALE:GREGORIAN
BEGIN:VEVENT
LOCATION:Barcelona
DESCRIPTION:
DTSTART:20190718T080000Z
DTEND:20190720T180000Z
SUMMARY:Sónar Mies: Dazwischen de Lucrecia Dalt
URL;VALUE=URI:https://arquitectes.cat/ca/content/s%C3%B3nar-mies-dazwischen-de-lucrecia-dalt
DTSTAMP:20260419T190641Z
UID:69e50ba188722
END:VEVENT
END:VCALENDAR