BEGIN:VCALENDAR
VERSION:2.0
PRODID:-//hacksw/handcal//NONSGML v1.0//EN
CALSCALE:GREGORIAN
BEGIN:VEVENT
LOCATION:Barcelona
DESCRIPTION:
DTSTART:20190606T150000Z
DTEND:20190606T150000Z
SUMMARY:"Esto no va de libros: Ficción digital infantil y juvenil"\, por Lucas Ramada
URL;VALUE=URI:https://arquitectes.cat/ca/node/31818
DTSTAMP:20260419T230537Z
UID:69e543a154179
END:VEVENT
END:VCALENDAR