BEGIN:VCALENDAR
VERSION:2.0
PRODID:-//hacksw/handcal//NONSGML v1.0//EN
CALSCALE:GREGORIAN
BEGIN:VEVENT
LOCATION:Barcelona
DESCRIPTION:
DTSTART:20190606T170000Z
DTEND:20190621T180000Z
SUMMARY:ExpoSURE 2019. Fotògrafs com a dissenyadors\, dissenyadors com a fotògrafs
URL;VALUE=URI:https://arquitectes.cat/ca/content/exposure-2019-fot%C3%B2grafs-com-dissenyadors-dissenyadors-com-fot%C3%B2grafs
DTSTAMP:20260419T205343Z
UID:69e524b72d601
END:VEVENT
END:VCALENDAR