BEGIN:VCALENDAR
VERSION:2.0
PRODID:-//hacksw/handcal//NONSGML v1.0//EN
CALSCALE:GREGORIAN
BEGIN:VEVENT
LOCATION:Figueres
DESCRIPTION:
DTSTART:20190515T173000Z
DTEND:20190515T173000Z
SUMMARY:Elecciones Municipales 2019. Debate con las candidaturas de Figueres
URL;VALUE=URI:https://arquitectes.cat/ca/node/31782
DTSTAMP:20260419T183952Z
UID:69e50558975e9
END:VEVENT
END:VCALENDAR