BEGIN:VCALENDAR
VERSION:2.0
PRODID:-//hacksw/handcal//NONSGML v1.0//EN
CALSCALE:GREGORIAN
BEGIN:VEVENT
LOCATION:Sabadell
DESCRIPTION:
DTSTART:20190508T113000Z
DTEND:20190508T113000Z
SUMMARY:Debat Urbanístic a Sabadell
URL;VALUE=URI:https://arquitectes.cat/ca/content/debat-urban%C3%ADstic-sabadell
DTSTAMP:20260425T215807Z
UID:69ed1ccfae1a1
END:VEVENT
END:VCALENDAR