BEGIN:VCALENDAR
VERSION:2.0
PRODID:-//hacksw/handcal//NONSGML v1.0//EN
CALSCALE:GREGORIAN
BEGIN:VEVENT
LOCATION:Olot
DESCRIPTION:
DTSTART:20190511T090000Z
DTEND:20190731T123000Z
SUMMARY:Exposició: ‘La nova Biblioteca d’Olot’
URL;VALUE=URI:https://arquitectes.cat/ca/content/exposici%C3%B3-%E2%80%98la-nova-biblioteca-d%E2%80%99olot%E2%80%99
DTSTAMP:20260419T190350Z
UID:69e50af6cad51
END:VEVENT
END:VCALENDAR