BEGIN:VCALENDAR
VERSION:2.0
PRODID:-//hacksw/handcal//NONSGML v1.0//EN
CALSCALE:GREGORIAN
BEGIN:VEVENT
LOCATION:Barcelona
DESCRIPTION:
DTSTART:20190516T163000Z
DTEND:20190516T163000Z
SUMMARY:Vertical living in timber: How to design for the 21st centruy
URL;VALUE=URI:https://arquitectes.cat/ca/content/vertical-living-timber-how-design-21st-centruy
DTSTAMP:20260421T072603Z
UID:69e70a6b369d7
END:VEVENT
END:VCALENDAR