BEGIN:VCALENDAR
VERSION:2.0
PRODID:-//hacksw/handcal//NONSGML v1.0//EN
CALSCALE:GREGORIAN
BEGIN:VEVENT
LOCATION:Vic
DESCRIPTION:
DTSTART:20190516T101500Z
DTEND:20190516T101500Z
SUMMARY:Tercer Dijous\, a la seu de Vic
URL;VALUE=URI:https://arquitectes.cat/ca/content/tercer-dijous-la-seu-de-vic
DTSTAMP:20260425T162504Z
UID:69eccec07f5db
END:VEVENT
END:VCALENDAR