BEGIN:VCALENDAR
VERSION:2.0
PRODID:-//hacksw/handcal//NONSGML v1.0//EN
CALSCALE:GREGORIAN
BEGIN:VEVENT
LOCATION:Girona
DESCRIPTION:
DTSTART:20190511T100000Z
DTEND:20190519T190000Z
SUMMARY:Girona\, temps de flors 2019 | L'evolució de l'aprenentatge
URL;VALUE=URI:https://arquitectes.cat/ca/content/girona-temps-de-flors-2019-levoluci%C3%B3-de-laprenentatge
DTSTAMP:20260423T001622Z
UID:69e948b6ec213
END:VEVENT
END:VCALENDAR