BEGIN:VCALENDAR
VERSION:2.0
PRODID:-//hacksw/handcal//NONSGML v1.0//EN
CALSCALE:GREGORIAN
BEGIN:VEVENT
LOCATION:Barcelona
DESCRIPTION:
DTSTART:20190516T173000Z
DTEND:20190516T173000Z
SUMMARY:Recordem Antoni Ubach
URL;VALUE=URI:https://arquitectes.cat/ca/content/recordem-antoni-ubach
DTSTAMP:20260420T034649Z
UID:69e58589f3e00
END:VEVENT
END:VCALENDAR