BEGIN:VCALENDAR
VERSION:2.0
PRODID:-//hacksw/handcal//NONSGML v1.0//EN
CALSCALE:GREGORIAN
BEGIN:VEVENT
LOCATION:Barcelona
DESCRIPTION:
DTSTART:20190509T171500Z
DTEND:20190509T171500Z
SUMMARY:Architecture Interviewed | Stephanie Macdonald parla amb Anna Puigjaner
URL;VALUE=URI:https://arquitectes.cat/ca/content/architecture-interviewed-stephanie-macdonald-parla-amb-anna-puigjaner
DTSTAMP:20260425T182737Z
UID:69eceb790b742
END:VEVENT
END:VCALENDAR