BEGIN:VCALENDAR
VERSION:2.0
PRODID:-//hacksw/handcal//NONSGML v1.0//EN
CALSCALE:GREGORIAN
BEGIN:VEVENT
LOCATION:Barcelona
DESCRIPTION:
DTSTART:20190512T173000Z
DTEND:20190512T173000Z
SUMMARY:Arqu[in]film’19: documental «Leaning into the Wind»
URL;VALUE=URI:https://arquitectes.cat/ca/content/arquinfilm%E2%80%9919-documental-%C2%ABleaning-wind%C2%BB
DTSTAMP:20260422T121027Z
UID:69e89e933e4b6
END:VEVENT
END:VCALENDAR