BEGIN:VCALENDAR
VERSION:2.0
PRODID:-//hacksw/handcal//NONSGML v1.0//EN
CALSCALE:GREGORIAN
BEGIN:VEVENT
LOCATION:Barcelona
DESCRIPTION:
DTSTART:20190511T173000Z
DTEND:20190511T173000Z
SUMMARY:Arqu[in]film’19: documental «The Experimental City»
URL;VALUE=URI:https://arquitectes.cat/ca/content/arquinfilm%E2%80%9919-documental-%C2%ABthe-experimental-city%C2%BB-0
DTSTAMP:20260419T220103Z
UID:69e5347f37557
END:VEVENT
END:VCALENDAR