BEGIN:VCALENDAR
VERSION:2.0
PRODID:-//hacksw/handcal//NONSGML v1.0//EN
CALSCALE:GREGORIAN
BEGIN:VEVENT
LOCATION:Barcelona
DESCRIPTION:
DTSTART:20190510T173000Z
DTEND:20190510T173000Z
SUMMARY:Arqu[in]film’19: curt «Take me Home» i documental «Parallel Sprawl»
URL;VALUE=URI:https://arquitectes.cat/ca/content/arquinfilm%E2%80%9919-curt-%C2%ABtake-me-home%C2%BB-i-documental-%C2%ABparallel-sprawl%C2%BB
DTSTAMP:20260425T143117Z
UID:69ecb4152bb7a
END:VEVENT
END:VCALENDAR