BEGIN:VCALENDAR
VERSION:2.0
PRODID:-//hacksw/handcal//NONSGML v1.0//EN
CALSCALE:GREGORIAN
BEGIN:VEVENT
LOCATION:Barcelona
DESCRIPTION:
DTSTART:20190511T090000Z
DTEND:20190511T090000Z
SUMMARY:Visita per a persones amb discapacitat visual "Sensacions espacials. Fundació Joan Miró"
URL;VALUE=URI:https://arquitectes.cat/ca/content/visita-persones-amb-discapacitat-visual-sensacions-espacials-fundaci%C3%B3-joan-mir%C3%B3
DTSTAMP:20260424T232259Z
UID:69ebdf3367cc5
END:VEVENT
END:VCALENDAR