BEGIN:VCALENDAR
VERSION:2.0
PRODID:-//hacksw/handcal//NONSGML v1.0//EN
CALSCALE:GREGORIAN
BEGIN:VEVENT
LOCATION:Barcelona
DESCRIPTION:
DTSTART:20190518T173000Z
DTEND:20190518T173000Z
SUMMARY:Guided tours to the Joan Miró Foundation (Night of Museums)
URL;VALUE=URI:https://arquitectes.cat/ca/node/31650
DTSTAMP:20260420T005924Z
UID:69e55e4c541bd
END:VEVENT
END:VCALENDAR