BEGIN:VCALENDAR
VERSION:2.0
PRODID:-//hacksw/handcal//NONSGML v1.0//EN
CALSCALE:GREGORIAN
BEGIN:VEVENT
LOCATION:Barcelona
DESCRIPTION:
DTSTART:20190519T160000Z
DTEND:20190519T160000Z
SUMMARY:Walking tour "Interior gardens of the Eixample"
URL;VALUE=URI:https://arquitectes.cat/ca/node/31647
DTSTAMP:20260423T033212Z
UID:69e9769cf39f7
END:VEVENT
END:VCALENDAR