BEGIN:VCALENDAR
VERSION:2.0
PRODID:-//hacksw/handcal//NONSGML v1.0//EN
CALSCALE:GREGORIAN
BEGIN:VEVENT
LOCATION:Barcelona
DESCRIPTION:
DTSTART:20190512T160000Z
DTEND:20190512T160000Z
SUMMARY:Itinerario "Jardines interiores de manzana de Sagrada Familia" (Semana Arquitectura)
URL;VALUE=URI:https://arquitectes.cat/ca/node/31643
DTSTAMP:20260419T225349Z
UID:69e540dd12745
END:VEVENT
END:VCALENDAR