BEGIN:VCALENDAR
VERSION:2.0
PRODID:-//hacksw/handcal//NONSGML v1.0//EN
CALSCALE:GREGORIAN
BEGIN:VEVENT
LOCATION:Tarragona
DESCRIPTION:
DTSTART:20190416T090000Z
DTEND:20190416T090000Z
SUMMARY:Acto de entrega de premios de la XI Biennal Alejandro de la Sota - Muestra de Arquitectura de Tarragonaona
URL;VALUE=URI:https://arquitectes.cat/ca/node/31627
DTSTAMP:20260425T012239Z
UID:69ebfb3f3fc1a
END:VEVENT
END:VCALENDAR