BEGIN:VCALENDAR
VERSION:2.0
PRODID:-//hacksw/handcal//NONSGML v1.0//EN
CALSCALE:GREGORIAN
BEGIN:VEVENT
LOCATION:Barcelona
DESCRIPTION:
DTSTART:20190507T130000Z
DTEND:20190507T130000Z
SUMMARY:Premi d’Arquitectura Contemporània de la UE – Premi Mies van der Rohe 2019: Cerimònia d’entrega\, simposi i publicació
URL;VALUE=URI:https://arquitectes.cat/ca/content/premi-d%E2%80%99arquitectura-contempor%C3%A0nia-de-la-ue-%E2%80%93-premi-mies-van-der-rohe-2019-cerim%C3%B2nia-d
DTSTAMP:20260426T055929Z
UID:69ed8da18eaee
END:VEVENT
END:VCALENDAR