BEGIN:VCALENDAR
VERSION:2.0
PRODID:-//hacksw/handcal//NONSGML v1.0//EN
CALSCALE:GREGORIAN
BEGIN:VEVENT
LOCATION:Barcelona
DESCRIPTION:
DTSTART:20190516T160000Z
DTEND:20190516T160000Z
SUMMARY:Guided tour to the Casa Bloc (spanish)
URL;VALUE=URI:https://arquitectes.cat/ca/node/31615
DTSTAMP:20260419T210537Z
UID:69e52781ab4c4
END:VEVENT
END:VCALENDAR