BEGIN:VCALENDAR
VERSION:2.0
PRODID:-//hacksw/handcal//NONSGML v1.0//EN
CALSCALE:GREGORIAN
BEGIN:VEVENT
LOCATION:Barcelona
DESCRIPTION:
DTSTART:20190510T150000Z
DTEND:20190510T150000Z
SUMMARY:Guided tour to Nau Ivanow
URL;VALUE=URI:https://arquitectes.cat/ca/node/31605
DTSTAMP:20260425T150817Z
UID:69ecbcc1bf64a
END:VEVENT
END:VCALENDAR