BEGIN:VCALENDAR
VERSION:2.0
PRODID:-//hacksw/handcal//NONSGML v1.0//EN
CALSCALE:GREGORIAN
BEGIN:VEVENT
LOCATION:Barcelona
DESCRIPTION:
DTSTART:20190509T170000Z
DTEND:20190509T170000Z
SUMMARY:Talk that Matters: Exportando Arquitectura
URL;VALUE=URI:https://arquitectes.cat/ca/content/talk-matters-exportando-arquitectura
DTSTAMP:20260422T211406Z
UID:69e91dfecb542
END:VEVENT
END:VCALENDAR