BEGIN:VCALENDAR
VERSION:2.0
PRODID:-//hacksw/handcal//NONSGML v1.0//EN
CALSCALE:GREGORIAN
BEGIN:VEVENT
LOCATION:Barcelona
DESCRIPTION:
DTSTART:20190429T070000Z
DTEND:20190429T070000Z
SUMMARY:VISITA. Ricardo Bofill Taller d’Arquitectura i edifici Walden 7 + oficines IRSAP
URL;VALUE=URI:https://arquitectes.cat/ca/content/visita-ricardo-bofill-taller-d%E2%80%99arquitectura-i-edifici-walden-7-oficines-irsap
DTSTAMP:20260420T003542Z
UID:69e558be17973
END:VEVENT
END:VCALENDAR