BEGIN:VCALENDAR
VERSION:2.0
PRODID:-//hacksw/handcal//NONSGML v1.0//EN
CALSCALE:GREGORIAN
BEGIN:VEVENT
LOCATION:
DESCRIPTION:
DTSTART:20190429T070000Z
DTEND:20190429T070000Z
SUMMARY:VISITA. Ricardo Bofill Taller de Arquitectura y edificio Walden 7 + oficinas IRSAP
URL;VALUE=URI:https://arquitectes.cat/ca/node/31546
DTSTAMP:20260423T001812Z
UID:69e94924dd5a7
END:VEVENT
END:VCALENDAR