BEGIN:VCALENDAR
VERSION:2.0
PRODID:-//hacksw/handcal//NONSGML v1.0//EN
CALSCALE:GREGORIAN
BEGIN:VEVENT
LOCATION:Barcelona
DESCRIPTION:
DTSTART:20190519T090000Z
DTEND:20190519T090000Z
SUMMARY:Taller d'aquarel·la #FemPaisatge 
URL;VALUE=URI:https://arquitectes.cat/ca/content/taller-daquarel%C2%B7la-fempaisatge
DTSTAMP:20260419T170845Z
UID:69e4effdb9bdf
END:VEVENT
END:VCALENDAR