BEGIN:VCALENDAR
VERSION:2.0
PRODID:-//hacksw/handcal//NONSGML v1.0//EN
CALSCALE:GREGORIAN
BEGIN:VEVENT
LOCATION:Barcelona
DESCRIPTION:
DTSTART:20190510T160000Z
DTEND:20190510T160000Z
SUMMARY:L'escola que m'agradaria\, amb ulls d'infant
URL;VALUE=URI:https://arquitectes.cat/ca/content/lescola-que-magradaria-amb-ulls-dinfant
DTSTAMP:20260419T205352Z
UID:69e524c0ed4b1
END:VEVENT
END:VCALENDAR