BEGIN:VCALENDAR
VERSION:2.0
PRODID:-//hacksw/handcal//NONSGML v1.0//EN
CALSCALE:GREGORIAN
BEGIN:VEVENT
LOCATION:Barcelona
DESCRIPTION:
DTSTART:20190507T070000Z
DTEND:20190507T070000Z
SUMMARY:Ágora de Urbanismo 2018
URL;VALUE=URI:https://arquitectes.cat/ca/node/31520
DTSTAMP:20260422T070420Z
UID:69e856d4c5530
END:VEVENT
END:VCALENDAR