BEGIN:VCALENDAR
VERSION:2.0
PRODID:-//hacksw/handcal//NONSGML v1.0//EN
CALSCALE:GREGORIAN
BEGIN:VEVENT
LOCATION:
DESCRIPTION:
DTSTART:20190628T060000Z
DTEND:20190630T173000Z
SUMMARY:Viatge d'arquitectura al Sud-Est de França
URL;VALUE=URI:https://arquitectes.cat/ca/content/viatge-darquitectura-al-sud-est-de-fran%C3%A7a
DTSTAMP:20260419T150211Z
UID:69e4d25316392
END:VEVENT
END:VCALENDAR