BEGIN:VCALENDAR
VERSION:2.0
PRODID:-//hacksw/handcal//NONSGML v1.0//EN
CALSCALE:GREGORIAN
BEGIN:VEVENT
LOCATION:Barcelona
DESCRIPTION:
DTSTART:20190602T090000Z
DTEND:20190602T090000Z
SUMMARY:La ciutat imaginada
URL;VALUE=URI:https://arquitectes.cat/ca/content/la-ciutat-imaginada
DTSTAMP:20260423T071425Z
UID:69e9aab11b601
END:VEVENT
END:VCALENDAR