BEGIN:VCALENDAR
VERSION:2.0
PRODID:-//hacksw/handcal//NONSGML v1.0//EN
CALSCALE:GREGORIAN
BEGIN:VEVENT
LOCATION:Barcelona
DESCRIPTION:
DTSTART:20190406T090000Z
DTEND:20190406T090000Z
SUMMARY:Visita guiada a la Casa Bloc
URL;VALUE=URI:https://arquitectes.cat/ca/node/31369
DTSTAMP:20260425T161404Z
UID:69eccc2c4ed6d
END:VEVENT
END:VCALENDAR