BEGIN:VCALENDAR
VERSION:2.0
PRODID:-//hacksw/handcal//NONSGML v1.0//EN
CALSCALE:GREGORIAN
BEGIN:VEVENT
LOCATION:Barcelona
DESCRIPTION:
DTSTART:20190406T080000Z
DTEND:20190406T080000Z
SUMMARY:Caminada pel patrimoni construït a la serra de Collserola
URL;VALUE=URI:https://arquitectes.cat/ca/content/caminada-pel-patrimoni-constru%C3%AFt-la-serra-de-collserola
DTSTAMP:20260425T215132Z
UID:69ed1b44692b0
END:VEVENT
END:VCALENDAR