BEGIN:VCALENDAR
VERSION:2.0
PRODID:-//hacksw/handcal//NONSGML v1.0//EN
CALSCALE:GREGORIAN
BEGIN:VEVENT
LOCATION:Barcelona
DESCRIPTION:
DTSTART:20190325T170000Z
DTEND:20190325T170000Z
SUMMARY:Foros 2019. Addenda Architects "Building Emptiness"
URL;VALUE=URI:https://arquitectes.cat/ca/node/31334
DTSTAMP:20260424T122221Z
UID:69eb445d53f70
END:VEVENT
END:VCALENDAR