BEGIN:VCALENDAR
VERSION:2.0
PRODID:-//hacksw/handcal//NONSGML v1.0//EN
CALSCALE:GREGORIAN
BEGIN:VEVENT
LOCATION:Terrassa
DESCRIPTION:
DTSTART:20190406T080000Z
DTEND:20190406T080000Z
SUMMARY:Room Scape: Últim avís al mNACTEC
URL;VALUE=URI:https://arquitectes.cat/ca/content/room-scape-%C3%BAltim-av%C3%ADs-al-mnactec
DTSTAMP:20260422T190846Z
UID:69e9009ee070b
END:VEVENT
END:VCALENDAR