BEGIN:VCALENDAR
VERSION:2.0
PRODID:-//hacksw/handcal//NONSGML v1.0//EN
CALSCALE:GREGORIAN
BEGIN:VEVENT
LOCATION:Barcelona
DESCRIPTION:
DTSTART:20190314T170000Z
DTEND:20190314T170000Z
SUMMARY:Presentació del llibre "Mies Missing Materiality"\, d’Anna & Eugeni Bach\, i del curtmetratge d’Adrià Goula\, a càrrec de Juhani Pallasmaa
URL;VALUE=URI:https://arquitectes.cat/ca/content/presentaci%C3%B3-del-llibre-mies-missing-materiality-d%E2%80%99anna-eugeni-bach-i-del-curtmetratge-d
DTSTAMP:20260420T035941Z
UID:69e5888d5b68c
END:VEVENT
END:VCALENDAR