BEGIN:VCALENDAR
VERSION:2.0
PRODID:-//hacksw/handcal//NONSGML v1.0//EN
CALSCALE:GREGORIAN
BEGIN:VEVENT
LOCATION:Barcelona
DESCRIPTION:
DTSTART:20190321T170000Z
DTEND:20190321T170000Z
SUMMARY:Talk that Matters: Arquitectas y Arquitectura\, constancia y decisión
URL;VALUE=URI:https://arquitectes.cat/ca/content/talk-matters-arquitectas-y-arquitectura-constancia-y-decisi%C3%B3n
DTSTAMP:20260425T150516Z
UID:69ecbc0c7090f
END:VEVENT
END:VCALENDAR