BEGIN:VCALENDAR
VERSION:2.0
PRODID:-//hacksw/handcal//NONSGML v1.0//EN
CALSCALE:GREGORIAN
BEGIN:VEVENT
LOCATION:Barcelona
DESCRIPTION:
DTSTART:20190320T140000Z
DTEND:20190323T120000Z
SUMMARY:Exposició: "Un any a EINA"
URL;VALUE=URI:https://arquitectes.cat/ca/content/exposici%C3%B3-un-any-eina
DTSTAMP:20260419T222516Z
UID:69e53a2c35480
END:VEVENT
END:VCALENDAR