BEGIN:VCALENDAR
VERSION:2.0
PRODID:-//hacksw/handcal//NONSGML v1.0//EN
CALSCALE:GREGORIAN
BEGIN:VEVENT
LOCATION:Barcelona
DESCRIPTION:
DTSTART:20190328T160000Z
DTEND:20190328T160000Z
SUMMARY:World 4.0 | Collaborative economy
URL;VALUE=URI:https://arquitectes.cat/ca/node/31280
DTSTAMP:20260419T220243Z
UID:69e534e333ba1
END:VEVENT
END:VCALENDAR