BEGIN:VCALENDAR
VERSION:2.0
PRODID:-//hacksw/handcal//NONSGML v1.0//EN
CALSCALE:GREGORIAN
BEGIN:VEVENT
LOCATION:Barcelona
DESCRIPTION:
DTSTART:20190311T170000Z
DTEND:20190311T170000Z
SUMMARY:Foros 2019. Elisa Valero "Neither more\, nor less"
URL;VALUE=URI:https://arquitectes.cat/ca/node/31246
DTSTAMP:20260420T000958Z
UID:69e552b6efc69
END:VEVENT
END:VCALENDAR