BEGIN:VCALENDAR
VERSION:2.0
PRODID:-//hacksw/handcal//NONSGML v1.0//EN
CALSCALE:GREGORIAN
BEGIN:VEVENT
LOCATION:Barcelona
DESCRIPTION:
DTSTART:20190315T140000Z
DTEND:20190315T140000Z
SUMMARY:El problema de la vivienda. Tres estrategias: Barcelona\, Madrid y País Vasco
URL;VALUE=URI:https://arquitectes.cat/ca/node/31235
DTSTAMP:20260419T215727Z
UID:69e533a71acf2
END:VEVENT
END:VCALENDAR