BEGIN:VCALENDAR
VERSION:2.0
PRODID:-//hacksw/handcal//NONSGML v1.0//EN
CALSCALE:GREGORIAN
BEGIN:VEVENT
LOCATION:Tarragona
DESCRIPTION:
DTSTART:20190321T173000Z
DTEND:20190321T173000Z
SUMMARY:La ciutat i els arquitectes - Conferència de Blanca Lleó
URL;VALUE=URI:https://arquitectes.cat/ca/content/la-ciutat-i-els-arquitectes-confer%C3%A8ncia-de-blanca-lle%C3%B3
DTSTAMP:20260424T040657Z
UID:69ead0411f0d8
END:VEVENT
END:VCALENDAR