BEGIN:VCALENDAR
VERSION:2.0
PRODID:-//hacksw/handcal//NONSGML v1.0//EN
CALSCALE:GREGORIAN
BEGIN:VEVENT
LOCATION:
DESCRIPTION:
DTSTART:20190321T073000Z
DTEND:20190323T120000Z
SUMMARY:Paisatge/kW. Significats i valors dels paisatges de l'energia hidroelèctrica
URL;VALUE=URI:https://arquitectes.cat/ca/content/paisatgekw-significats-i-valors-dels-paisatges-de-lenergia-hidroel%C3%A8ctrica
DTSTAMP:20260423T071131Z
UID:69e9aa03a29be
END:VEVENT
END:VCALENDAR