BEGIN:VCALENDAR
VERSION:2.0
PRODID:-//hacksw/handcal//NONSGML v1.0//EN
CALSCALE:GREGORIAN
BEGIN:VEVENT
LOCATION:Barcelona
DESCRIPTION:
DTSTART:20190228T080000Z
DTEND:20190228T080000Z
SUMMARY:ADAW / LLUM. Construyendo futuros a través de un proceso de diseño social
URL;VALUE=URI:https://arquitectes.cat/ca/node/31210
DTSTAMP:20260423T071437Z
UID:69e9aabdd66cb
END:VEVENT
END:VCALENDAR