BEGIN:VCALENDAR
VERSION:2.0
PRODID:-//hacksw/handcal//NONSGML v1.0//EN
CALSCALE:GREGORIAN
BEGIN:VEVENT
LOCATION:Barcelona
DESCRIPTION:
DTSTART:20190222T170000Z
DTEND:20190317T170000Z
SUMMARY:Exposició: El Camp de la Bota
URL;VALUE=URI:https://arquitectes.cat/ca/content/exposici%C3%B3-el-camp-de-la-bota
DTSTAMP:20260422T154303Z
UID:69e8d067df79b
END:VEVENT
END:VCALENDAR